BEGIN:VCALENDAR
VERSION:2.0
PRODID:-//Contratero//ES
CALSCALE:GREGORIAN
METHOD:PUBLISH
BEGIN:VEVENT
UID:PGSSECRET3053/18 - [EXPTE.21/18]@contratero.es
DTSTAMP:20260426T005800Z
DTSTART:20190103T235959
DTEND:20190104T005959
SUMMARY:Cierre: Suministro de equipamiento para actualización del 
DESCRIPTION:Suministro de equipamiento para actualización del centro de proceso de datos del Ayuntamiento de Salobreña.\\n\\nOrganismo: Junta de Gobierno del Ayuntamiento de Salobreña\\n\\nVer en Contratero: https://contratero.es/contracts/PGSSECRET3053/18 - [EXPTE.21/18]
URL:https://contratero.es/contracts/PGSSECRET3053/18 - [EXPTE.21/18]
STATUS:CONFIRMED
BEGIN:VALARM
TRIGGER:-P1D
ACTION:DISPLAY
DESCRIPTION:Recordatorio: Suministro de equipamiento par
END:VALARM
END:VEVENT
END:VCALENDAR